BEGIN:VCALENDAR
VERSION:2.0
PRODID:-//Tukios.com/
BEGIN:VEVENT
UID:3daabded-1ebe-4c4e-b427-7fd3b4772db5@www.urbanskifuneralhome.com
DTSTAMP:20260422T205447Z
DTSTART:20260425T140000Z
DTEND:20260425T150000Z
SUMMARY:Mass
DESCRIPTION:
URL:https://www.urbanskifuneralhome.com/obituaries/anna-mcilhargey-kontur
LOCATION: 4100 Harvest Ln  Toledo OH 43623
GEO:41.6926296;-83.6321787
END:VEVENT
END:VCALENDAR