BEGIN:VCALENDAR
VERSION:2.0
PRODID:-//Tukios.com/
BEGIN:VEVENT
UID:8cbb67df-d5a7-49dd-89af-75f7ee4e4d2c@www.urbanskifuneralhome.com
DTSTAMP:20260422T205756Z
DTSTART:20260425T130000Z
DTEND:20260425T140000Z
SUMMARY:Visitation
DESCRIPTION:
URL:https://www.urbanskifuneralhome.com/obituaries/anna-mcilhargey-kontur
LOCATION: 4100 Harvest Ln  Toledo OH 43623
GEO:41.6926296;-83.6321787
END:VEVENT
END:VCALENDAR