BEGIN:VCALENDAR
VERSION:2.0
PRODID:-//Tukios.com/
BEGIN:VEVENT
UID:be88adcf-f1af-4039-8bc5-99dd5435cae6@www.urbanskifuneralhome.com
DTSTAMP:20260422T205756Z
DTSTART:20260424T210000Z
DTEND:20260425T003000Z
SUMMARY:Visitation
DESCRIPTION:
URL:https://www.urbanskifuneralhome.com/obituaries/anna-mcilhargey-kontur
LOCATION:Urbanski Funeral Home 5055 Secor Road  Toledo OH 43623
GEO:41.7076661;-83.6244766
END:VEVENT
END:VCALENDAR